BEGIN:VCALENDAR
VERSION:2.0
PRODID:-//Boston Irish Honors - ECPv6.15.4//NONSGML v1.0//EN
CALSCALE:GREGORIAN
METHOD:PUBLISH
X-ORIGINAL-URL:https://bostonirishhonors.org
X-WR-CALDESC:Events for Boston Irish Honors
REFRESH-INTERVAL;VALUE=DURATION:PT1H
X-Robots-Tag:noindex
X-PUBLISHED-TTL:PT1H
BEGIN:VTIMEZONE
TZID:UTC
BEGIN:STANDARD
TZOFFSETFROM:+0000
TZOFFSETTO:+0000
TZNAME:UTC
DTSTART:20240101T000000
END:STANDARD
END:VTIMEZONE
BEGIN:VEVENT
DTSTART;TZID=UTC:20241025T113000
DTEND;TZID=UTC:20241025T140000
DTSTAMP:20260419T143158
CREATED:20250811T163339Z
LAST-MODIFIED:20250811T163339Z
UID:10000002-1729855800-1729864800@bostonirishhonors.org
SUMMARY:15th Annual Luncheon
DESCRIPTION:
URL:https://bostonirishhonors.org/event/15th-annual-luncheon/
LOCATION:John F. Kennedy Presidential Library & Museum\, Columbia Point\, Dorchester\, MA\, 02125\, United States
END:VEVENT
BEGIN:VEVENT
DTSTART;TZID=UTC:20241025T113000
DTEND;TZID=UTC:20241025T140000
DTSTAMP:20260419T143158
CREATED:20240805T211551Z
LAST-MODIFIED:20240805T213359Z
UID:10000001-1729855800-1729864800@bostonirishhonors.org
SUMMARY:14th Annual Luncheon
DESCRIPTION:
URL:https://bostonirishhonors.org/event/14th-annual-luncheon/
LOCATION:John F. Kennedy Presidential Library & Museum\, Columbia Point\, Dorchester\, MA\, 02125\, United States
END:VEVENT
END:VCALENDAR